BEGIN:VCALENDAR
VERSION:2.0
PRODID:-//Music On Wheels Academy - ECPv6.0.12//NONSGML v1.0//EN
CALSCALE:GREGORIAN
METHOD:PUBLISH
X-WR-CALNAME:Music On Wheels Academy
X-ORIGINAL-URL:https://musiconwheelsga.com
X-WR-CALDESC:Events for Music On Wheels Academy
REFRESH-INTERVAL;VALUE=DURATION:PT1H
X-Robots-Tag:noindex
X-PUBLISHED-TTL:PT1H
BEGIN:VTIMEZONE
TZID:UTC
BEGIN:STANDARD
TZOFFSETFROM:+0000
TZOFFSETTO:+0000
TZNAME:UTC
DTSTART:20230101T000000
END:STANDARD
END:VTIMEZONE
BEGIN:VEVENT
DTSTART;VALUE=DATE:20250623
DTEND;VALUE=DATE:20250801
DTSTAMP:20260422T182041
CREATED:20250306T045905Z
LAST-MODIFIED:20250822T022933Z
UID:236519-1750636800-1754006399@musiconwheelsga.com
SUMMARY:2025 Summer Youth Camp
DESCRIPTION:
URL:https://musiconwheelsga.com/event/2025-summer-youth-camp/
LOCATION:Music On Wheels Academy\, 954 Bank Street\, SE\, Smyrna\, GA\, 30080\, United States
ATTACH;FMTTYPE=image/jpeg:https://musiconwheelsga.com/wp-content/uploads/2025/03/Summer-Camp-2025-Advertsement-scaled.jpg
ORGANIZER;CN="Music%20On%20Wheels%20Academy":MAILTO:info@musiconwheelsga.com
END:VEVENT
BEGIN:VEVENT
DTSTART;VALUE=DATE:20240624
DTEND;VALUE=DATE:20240802
DTSTAMP:20260422T182041
CREATED:20240521T031122Z
LAST-MODIFIED:20240521T133046Z
UID:236281-1719187200-1722556799@musiconwheelsga.com
SUMMARY:2024 Summer Youth Camp
DESCRIPTION:Music On Wheels Academy & Restoring the Years Global Ministries present \n2024 Summer Youth Camp\n954 Bank Street\, SE \nSmyrna\, GA 30080 \nJune 24th Through August 1st. from 9 am – 4:00 pm  \nRegister Now Open Click Here\n  \nRegistration Ends June 14th\nBefore & After Care\, as well as Transportation\, are available for an Additional Charge
URL:https://musiconwheelsga.com/event/2024-summer-youth-camp/
LOCATION:Music On Wheels Academy\, 954 Bank Street\, SE\, Smyrna\, GA\, 30080\, United States
ATTACH;FMTTYPE=image/jpeg:https://musiconwheelsga.com/wp-content/uploads/2024/05/2024-Flyer-2-scaled.jpg
ORGANIZER;CN="Music%20On%20Wheels%20Academy":MAILTO:info@musiconwheelsga.com
END:VEVENT
BEGIN:VEVENT
DTSTART;TZID=UTC:20240519T160000
DTEND;TZID=UTC:20240519T200000
DTSTAMP:20260422T182041
CREATED:20240317T000455Z
LAST-MODIFIED:20240317T011801Z
UID:236196-1716134400-1716148800@musiconwheelsga.com
SUMMARY:2024 Spring Recital
DESCRIPTION:MARIETTA’S THEATER IN THE SQUARE\n11 Whitlock Ave SW\, Marietta\,\nGA 30060\, USA\n770 426 4800\nSunday\, May 19th\, 2024 at 4:00 pm \nPurchase Tickets
URL:https://musiconwheelsga.com/event/2024-spring-recital/
LOCATION:MARIETTA’S THEATER IN THE SQUARE\, 11 Whitlock Ave SW\, Marietta\, 30060\, United States
ATTACH;FMTTYPE=image/png:https://musiconwheelsga.com/wp-content/uploads/2024/03/Marietta-Theatre-in-the-Square-Image-300x168-1.png
END:VEVENT
BEGIN:VEVENT
DTSTART;TZID=UTC:20230507T160000
DTEND;TZID=UTC:20230507T200000
DTSTAMP:20260422T182041
CREATED:20230412T061624Z
LAST-MODIFIED:20230502T152555Z
UID:235226-1683475200-1683489600@musiconwheelsga.com
SUMMARY:2023 Spring Recital
DESCRIPTION:The Strand Theatre\n117 N Park Sq NE\, Marietta\, GA 30060\nSunday\, May 7th\, 2023 at 4:00 pm \nPurchase Tickets
URL:https://musiconwheelsga.com/event/2023-spring-recital/
LOCATION:The Strand Theatre\, 117 N Park Sq NE\,\, Marietta\, GA\, 30060
ATTACH;FMTTYPE=image/webp:https://musiconwheelsga.com/wp-content/uploads/2023/04/strand.webp
END:VEVENT
END:VCALENDAR